BEGIN:VCALENDAR
VERSION:2.0
PRODID:-//G.E.A.R. - ECPv6.15.11//NONSGML v1.0//EN
CALSCALE:GREGORIAN
METHOD:PUBLISH
X-WR-CALNAME:G.E.A.R.
X-ORIGINAL-URL:https://gearsdu.com
X-WR-CALDESC:Events for G.E.A.R.
REFRESH-INTERVAL;VALUE=DURATION:PT1H
X-Robots-Tag:noindex
X-PUBLISHED-TTL:PT1H
BEGIN:VTIMEZONE
TZID:Europe/Berlin
BEGIN:DAYLIGHT
TZOFFSETFROM:+0100
TZOFFSETTO:+0200
TZNAME:CEST
DTSTART:20250330T010000
END:DAYLIGHT
BEGIN:STANDARD
TZOFFSETFROM:+0200
TZOFFSETTO:+0100
TZNAME:CET
DTSTART:20251026T010000
END:STANDARD
BEGIN:DAYLIGHT
TZOFFSETFROM:+0100
TZOFFSETTO:+0200
TZNAME:CEST
DTSTART:20260329T010000
END:DAYLIGHT
BEGIN:STANDARD
TZOFFSETFROM:+0200
TZOFFSETTO:+0100
TZNAME:CET
DTSTART:20261025T010000
END:STANDARD
BEGIN:DAYLIGHT
TZOFFSETFROM:+0100
TZOFFSETTO:+0200
TZNAME:CEST
DTSTART:20270328T010000
END:DAYLIGHT
BEGIN:STANDARD
TZOFFSETFROM:+0200
TZOFFSETTO:+0100
TZNAME:CET
DTSTART:20271031T010000
END:STANDARD
END:VTIMEZONE
BEGIN:VEVENT
DTSTART;TZID=Europe/Berlin:20260417T160000
DTEND;TZID=Europe/Berlin:20260419T160000
DTSTAMP:20260422T042741
CREATED:20260411T153459Z
LAST-MODIFIED:20260418T073518Z
UID:1473-1776441600-1776614400@gearsdu.com
SUMMARY:G.E.A.R. x Danfoss Hackathon 3.0
DESCRIPTION:Event Schedule\n \n\nCase Catalog:\nlink: Case catalogue 2026 Apr – 3rd AI Hackathon
URL:https://gearsdu.com/event/g-e-a-r-x-danfoss-hackathon-3-0/
END:VEVENT
END:VCALENDAR